BEGIN:VCALENDAR
PRODID:Nexudus
VERSION:2.0
BEGIN:VTIMEZONE
TZID:America/Los_Angeles
X-LIC-LOCATION:America/Los_Angeles
BEGIN:STANDARD
DTSTART:20241103T020000
RRULE:FREQ=YEARLY;BYDAY=1SU;BYMONTH=11
TZNAME:PST
TZOFFSETFROM:-0700
TZOFFSETTO:-0800
END:STANDARD
BEGIN:DAYLIGHT
DTSTART:20250309T020000
RRULE:FREQ=YEARLY;BYDAY=2SU;BYMONTH=3
TZNAME:PDT
TZOFFSETFROM:-0800
TZOFFSETTO:-0700
END:DAYLIGHT
END:VTIMEZONE
BEGIN:VEVENT
DESCRIPTION:Learn ALL things WORDPRESS!\nEvent link: https://www.meshcowork
 .com/en/events/view/1415121577/wordpress-wednesday\n
DTEND;TZID=America/Los_Angeles:20221116T200000
DTSTAMP:20260421T081547Z
DTSTART;TZID=America/Los_Angeles:20221116T190000
LOCATION:Mesh Cowork
SEQUENCE:0
SUMMARY:WordPress Wednesday
UID:46918aa3-319b-4eb3-a4ec-e13eb2263ef2
END:VEVENT
END:VCALENDAR
